BEGIN:VCALENDAR
VERSION:2.0
METHOD:PUBLISH
X-WR-CALNAME:Mercociudades |  January 19 2018- January 19 2018
PRODID:-//strange bird labs//Drupal iCal API//EN
BEGIN:VEVENT
DTSTAMP;VALUE=DATE-TIME:20260423T053333Z
DTSTART;VALUE=DATE-TIME:20180117T143100Z
DTEND;VALUE=DATE-TIME:20020203
UID:http://mercociudades.net/pt-br/node/6650
URL;VALUE=URI:http://mercociudades.net/pt-br/node/6650
SUMMARY:Coordinación de la Unidad Temática de Turismo participa en el XVI Comité Sectorial de Turismo de la UCCI
DESCRIPTION:<p>Coordinaci&oacute\;n de la Unidad Tem&aacute\;tica de Turismo participa en el XVI Comit&eacute\; Sectorial de Turismo de la UCCI\, en Madrid\, Espa&ntilde\;a.</p>
 <p><a href=\\"http\://www.mercociudades.org/node/6641\\">M&aacute\;s informaci&oacute\;n</a></p>
 
END:VEVENT
END:VCALENDAR
